BEGIN:VCALENDAR
VERSION:2.0
PRODID:-//1001 Point de vue - ECPv6.8.3//NONSGML v1.0//EN
CALSCALE:GREGORIAN
METHOD:PUBLISH
X-ORIGINAL-URL:https://1001pointsdevue.fr
X-WR-CALDESC:Évènements pour 1001 Point de vue
REFRESH-INTERVAL;VALUE=DURATION:PT1H
X-Robots-Tag:noindex
X-PUBLISHED-TTL:PT1H
BEGIN:VTIMEZONE
TZID:Europe/Paris
BEGIN:DAYLIGHT
TZOFFSETFROM:+0100
TZOFFSETTO:+0200
TZNAME:CEST
DTSTART:20230326T010000
END:DAYLIGHT
BEGIN:STANDARD
TZOFFSETFROM:+0200
TZOFFSETTO:+0100
TZNAME:CET
DTSTART:20231029T010000
END:STANDARD
END:VTIMEZONE
BEGIN:VEVENT
DTSTART;TZID=Europe/Paris:20231220T133000
DTEND;TZID=Europe/Paris:20231220T153000
DTSTAMP:20260424T060631
CREATED:20230312T151508Z
LAST-MODIFIED:20230312T151516Z
UID:736-1703079000-1703086200@1001pointsdevue.fr
SUMMARY:Efficience scolaire
DESCRIPTION:Groupe 2\nSéance 3/5
URL:https://1001pointsdevue.fr/atelier/efficience-scolaire-8/
CATEGORIES:Efficience
ORGANIZER;CN="1001 Points de vue":MAILTO:contact@1001pointsdevue.fr
END:VEVENT
BEGIN:VEVENT
DTSTART;TZID=Europe/Paris:20231213T153000
DTEND;TZID=Europe/Paris:20231213T173000
DTSTAMP:20260424T060631
CREATED:20230312T152807Z
LAST-MODIFIED:20230312T153006Z
UID:759-1702481400-1702488600@1001pointsdevue.fr
SUMMARY:Orientation jeunes
DESCRIPTION:Groupe 2\nSéance 5/5
URL:https://1001pointsdevue.fr/atelier/orientation-jeunes-8/
CATEGORIES:Orientation
ORGANIZER;CN="1001 Points de vue":MAILTO:contact@1001pointsdevue.fr
END:VEVENT
BEGIN:VEVENT
DTSTART;VALUE=DATE:20231212
DTEND;VALUE=DATE:20231213
DTSTAMP:20260424T060631
CREATED:20230312T154511Z
LAST-MODIFIED:20230312T154511Z
UID:812-1702339200-1702425599@1001pointsdevue.fr
SUMMARY:Atelier Objectifs
DESCRIPTION:
URL:https://1001pointsdevue.fr/atelier/atelier-objectifs-7/
CATEGORIES:Objectifs_Libération
ORGANIZER;CN="1001 Points de vue":MAILTO:contact@1001pointsdevue.fr
END:VEVENT
BEGIN:VEVENT
DTSTART;TZID=Europe/Paris:20231206T153000
DTEND;TZID=Europe/Paris:20231206T173000
DTSTAMP:20260424T060631
CREATED:20230312T152736Z
LAST-MODIFIED:20230312T153001Z
UID:757-1701876600-1701883800@1001pointsdevue.fr
SUMMARY:Orientation jeunes
DESCRIPTION:Groupe 2\nSéance 4/5
URL:https://1001pointsdevue.fr/atelier/orientation-jeunes-7/
CATEGORIES:Orientation
ORGANIZER;CN="1001 Points de vue":MAILTO:contact@1001pointsdevue.fr
END:VEVENT
BEGIN:VEVENT
DTSTART;TZID=Europe/Paris:20231206T133000
DTEND;TZID=Europe/Paris:20231206T153000
DTSTAMP:20260424T060631
CREATED:20230312T151447Z
LAST-MODIFIED:20230312T151447Z
UID:735-1701869400-1701876600@1001pointsdevue.fr
SUMMARY:Efficience scolaire
DESCRIPTION:Groupe 2\nSéance 2/5
URL:https://1001pointsdevue.fr/atelier/efficience-scolaire-7/
CATEGORIES:Efficience
ORGANIZER;CN="1001 Points de vue":MAILTO:contact@1001pointsdevue.fr
END:VEVENT
BEGIN:VEVENT
DTSTART;TZID=Europe/Paris:20231129T153000
DTEND;TZID=Europe/Paris:20231129T173000
DTSTAMP:20260424T060631
CREATED:20230312T153712Z
LAST-MODIFIED:20230312T153712Z
UID:784-1701271800-1701279000@1001pointsdevue.fr
SUMMARY:Confiance en soi
DESCRIPTION:Groupe 2\nSéance 5/5
URL:https://1001pointsdevue.fr/atelier/confiance-en-soi-10/
CATEGORIES:Confiance
ORGANIZER;CN="1001 Points de vue":MAILTO:contact@1001pointsdevue.fr
END:VEVENT
BEGIN:VEVENT
DTSTART;TZID=Europe/Paris:20231129T153000
DTEND;TZID=Europe/Paris:20231129T173000
DTSTAMP:20260424T060631
CREATED:20230312T152659Z
LAST-MODIFIED:20230312T152957Z
UID:758-1701271800-1701279000@1001pointsdevue.fr
SUMMARY:Orientation jeunes
DESCRIPTION:Groupe 2\nSéance 3/5
URL:https://1001pointsdevue.fr/atelier/orientation-jeunes-6/
CATEGORIES:Orientation
ORGANIZER;CN="1001 Points de vue":MAILTO:contact@1001pointsdevue.fr
END:VEVENT
BEGIN:VEVENT
DTSTART;VALUE=DATE:20231125
DTEND;VALUE=DATE:20231126
DTSTAMP:20260424T060631
CREATED:20230312T154051Z
LAST-MODIFIED:20230312T154059Z
UID:799-1700870400-1700956799@1001pointsdevue.fr
SUMMARY:Mieux vivre son hypersensibilité
DESCRIPTION:Groupe 1\nSéance 5/5
URL:https://1001pointsdevue.fr/atelier/mieux-vivre-son-hypersensibilite-5/
CATEGORIES:Hypersensibilité
ORGANIZER;CN="1001 Points de vue":MAILTO:contact@1001pointsdevue.fr
END:VEVENT
BEGIN:VEVENT
DTSTART;VALUE=DATE:20231124
DTEND;VALUE=DATE:20231125
DTSTAMP:20260424T060631
CREATED:20230312T154723Z
LAST-MODIFIED:20230312T154723Z
UID:824-1700784000-1700870399@1001pointsdevue.fr
SUMMARY:Atelier de libération
DESCRIPTION:
URL:https://1001pointsdevue.fr/atelier/atelier-de-liberation-5/
CATEGORIES:Objectifs_Libération
ORGANIZER;CN="1001 Points de vue":MAILTO:contact@1001pointsdevue.fr
END:VEVENT
BEGIN:VEVENT
DTSTART;TZID=Europe/Paris:20231122T153000
DTEND;TZID=Europe/Paris:20231122T173000
DTSTAMP:20260424T060631
CREATED:20230312T152631Z
LAST-MODIFIED:20230312T152952Z
UID:755-1700667000-1700674200@1001pointsdevue.fr
SUMMARY:Orientation jeunes
DESCRIPTION:Groupe 2\nSéance 2/5
URL:https://1001pointsdevue.fr/atelier/orientation-jeunes-5/
CATEGORIES:Orientation
ORGANIZER;CN="1001 Points de vue":MAILTO:contact@1001pointsdevue.fr
END:VEVENT
BEGIN:VEVENT
DTSTART;TZID=Europe/Paris:20231122T133000
DTEND;TZID=Europe/Paris:20231122T153000
DTSTAMP:20260424T060631
CREATED:20230312T151422Z
LAST-MODIFIED:20230312T151422Z
UID:734-1700659800-1700667000@1001pointsdevue.fr
SUMMARY:Efficience scolaire
DESCRIPTION:Groupe 2\nSéance 1/5
URL:https://1001pointsdevue.fr/atelier/efficience-scolaire-6/
CATEGORIES:Efficience
ORGANIZER;CN="1001 Points de vue":MAILTO:contact@1001pointsdevue.fr
END:VEVENT
BEGIN:VEVENT
DTSTART;TZID=Europe/Paris:20231115T153000
DTEND;TZID=Europe/Paris:20231115T173000
DTSTAMP:20260424T060631
CREATED:20230312T153651Z
LAST-MODIFIED:20230312T153651Z
UID:783-1700062200-1700069400@1001pointsdevue.fr
SUMMARY:Confiance en soi
DESCRIPTION:Groupe 2\nSéance 4/5
URL:https://1001pointsdevue.fr/atelier/confiance-en-soi-9/
CATEGORIES:Confiance
ORGANIZER;CN="1001 Points de vue":MAILTO:contact@1001pointsdevue.fr
END:VEVENT
BEGIN:VEVENT
DTSTART;TZID=Europe/Paris:20231115T153000
DTEND;TZID=Europe/Paris:20231115T173000
DTSTAMP:20260424T060631
CREATED:20230312T152602Z
LAST-MODIFIED:20230312T152944Z
UID:756-1700062200-1700069400@1001pointsdevue.fr
SUMMARY:Orientation jeunes
DESCRIPTION:Groupe 2\nSéance 1/5
URL:https://1001pointsdevue.fr/atelier/orientation-jeunes-4/
CATEGORIES:Orientation
ORGANIZER;CN="1001 Points de vue":MAILTO:contact@1001pointsdevue.fr
END:VEVENT
BEGIN:VEVENT
DTSTART;VALUE=DATE:20231113
DTEND;VALUE=DATE:20231114
DTSTAMP:20260424T060631
CREATED:20230312T154458Z
LAST-MODIFIED:20230312T154458Z
UID:811-1699833600-1699919999@1001pointsdevue.fr
SUMMARY:Atelier Objectifs
DESCRIPTION:
URL:https://1001pointsdevue.fr/atelier/atelier-objectifs-6/
CATEGORIES:Objectifs_Libération
ORGANIZER;CN="1001 Points de vue":MAILTO:contact@1001pointsdevue.fr
END:VEVENT
BEGIN:VEVENT
DTSTART;VALUE=DATE:20231111
DTEND;VALUE=DATE:20231112
DTSTAMP:20260424T060631
CREATED:20230312T154035Z
LAST-MODIFIED:20230312T154035Z
UID:798-1699660800-1699747199@1001pointsdevue.fr
SUMMARY:Mieux vivre son hypersensibilité
DESCRIPTION:Groupe 1\nSéance 4/5
URL:https://1001pointsdevue.fr/atelier/mieux-vivre-son-hypersensibilite-4/
CATEGORIES:Hypersensibilité
ORGANIZER;CN="1001 Points de vue":MAILTO:contact@1001pointsdevue.fr
END:VEVENT
BEGIN:VEVENT
DTSTART;TZID=Europe/Paris:20231110T200000
DTEND;TZID=Europe/Paris:20231110T220000
DTSTAMP:20260424T060631
CREATED:20230312T150425Z
LAST-MODIFIED:20230312T150434Z
UID:723-1699646400-1699653600@1001pointsdevue.fr
SUMMARY:Faire la paix avec son corps (amincissement)
DESCRIPTION:Groupe 4\nSéance 5/5
URL:https://1001pointsdevue.fr/atelier/faire-la-paix-avec-son-corps-amincissement-19/
CATEGORIES:Corps
ORGANIZER;CN="1001 Points de vue":MAILTO:contact@1001pointsdevue.fr
END:VEVENT
BEGIN:VEVENT
DTSTART;TZID=Europe/Paris:20231109T200000
DTEND;TZID=Europe/Paris:20231109T220000
DTSTAMP:20260424T060631
CREATED:20230312T145840Z
LAST-MODIFIED:20230312T145840Z
UID:713-1699560000-1699567200@1001pointsdevue.fr
SUMMARY:Faire la paix avec son corps (amincissement)
DESCRIPTION:Groupe 3\nSéance 5/5
URL:https://1001pointsdevue.fr/atelier/faire-la-paix-avec-son-corps-amincissement-14/
CATEGORIES:Corps
ORGANIZER;CN="1001 Points de vue":MAILTO:contact@1001pointsdevue.fr
END:VEVENT
BEGIN:VEVENT
DTSTART;TZID=Europe/Paris:20231108T153000
DTEND;TZID=Europe/Paris:20231108T173000
DTSTAMP:20260424T060631
CREATED:20230312T152539Z
LAST-MODIFIED:20230312T152940Z
UID:754-1699457400-1699464600@1001pointsdevue.fr
SUMMARY:Orientation jeunes
DESCRIPTION:Groupe 1\nSéance 5/5
URL:https://1001pointsdevue.fr/atelier/orientation-jeunes-3/
CATEGORIES:Orientation
ORGANIZER;CN="1001 Points de vue":MAILTO:contact@1001pointsdevue.fr
END:VEVENT
BEGIN:VEVENT
DTSTART;TZID=Europe/Paris:20231108T133000
DTEND;TZID=Europe/Paris:20231108T153000
DTSTAMP:20260424T060631
CREATED:20230312T151355Z
LAST-MODIFIED:20230312T151355Z
UID:733-1699450200-1699457400@1001pointsdevue.fr
SUMMARY:Efficience scolaire
DESCRIPTION:Groupe 1\nSéance 5/5
URL:https://1001pointsdevue.fr/atelier/efficience-scolaire-5/
CATEGORIES:Efficience
ORGANIZER;CN="1001 Points de vue":MAILTO:contact@1001pointsdevue.fr
END:VEVENT
BEGIN:VEVENT
DTSTART;VALUE=DATE:20231030
DTEND;VALUE=DATE:20231104
DTSTAMP:20260424T060631
CREATED:20230312T151946Z
LAST-MODIFIED:20230312T152932Z
UID:746-1698624000-1699055999@1001pointsdevue.fr
SUMMARY:Stage d'orientation jeunes
DESCRIPTION:Stage de 5 demi-journées
URL:https://1001pointsdevue.fr/atelier/orientation-jeunes-stage-2/
CATEGORIES:Orientation
ORGANIZER;CN="1001 Points de vue":MAILTO:contact@1001pointsdevue.fr
END:VEVENT
BEGIN:VEVENT
DTSTART;TZID=Europe/Paris:20231021T100000
DTEND;TZID=Europe/Paris:20231021T120000
DTSTAMP:20260424T060631
CREATED:20230312T150307Z
LAST-MODIFIED:20230312T150307Z
UID:722-1697882400-1697889600@1001pointsdevue.fr
SUMMARY:Faire la paix avec son corps (amincissement)
DESCRIPTION:Groupe 4\nSéance 4/5
URL:https://1001pointsdevue.fr/atelier/faire-la-paix-avec-son-corps-amincissement-18/
CATEGORIES:Corps
ORGANIZER;CN="1001 Points de vue":MAILTO:contact@1001pointsdevue.fr
END:VEVENT
BEGIN:VEVENT
DTSTART;TZID=Europe/Paris:20231019T200000
DTEND;TZID=Europe/Paris:20231019T220000
DTSTAMP:20260424T060631
CREATED:20230312T145814Z
LAST-MODIFIED:20230312T145814Z
UID:712-1697745600-1697752800@1001pointsdevue.fr
SUMMARY:Faire la paix avec son corps (amincissement)
DESCRIPTION:Groupe 3\nSéance 4/5
URL:https://1001pointsdevue.fr/atelier/faire-la-paix-avec-son-corps-amincissement-13/
CATEGORIES:Corps
ORGANIZER;CN="1001 Points de vue":MAILTO:contact@1001pointsdevue.fr
END:VEVENT
BEGIN:VEVENT
DTSTART;TZID=Europe/Paris:20231018T153000
DTEND;TZID=Europe/Paris:20231018T173000
DTSTAMP:20260424T060631
CREATED:20230312T152513Z
LAST-MODIFIED:20230312T152925Z
UID:753-1697643000-1697650200@1001pointsdevue.fr
SUMMARY:Orientation jeunes
DESCRIPTION:Groupe 1\nSéance 4/5
URL:https://1001pointsdevue.fr/atelier/orientation-jeunes-2/
CATEGORIES:Orientation
ORGANIZER;CN="1001 Points de vue":MAILTO:contact@1001pointsdevue.fr
END:VEVENT
BEGIN:VEVENT
DTSTART;TZID=Europe/Paris:20231018T133000
DTEND;TZID=Europe/Paris:20231018T153000
DTSTAMP:20260424T060631
CREATED:20230312T151304Z
LAST-MODIFIED:20230312T151319Z
UID:731-1697635800-1697643000@1001pointsdevue.fr
SUMMARY:Efficience scolaire
DESCRIPTION:Groupe 1\nSéance 4/5
URL:https://1001pointsdevue.fr/atelier/efficience-scolaire-4/
CATEGORIES:Efficience
ORGANIZER;CN="1001 Points de vue":MAILTO:contact@1001pointsdevue.fr
END:VEVENT
BEGIN:VEVENT
DTSTART;VALUE=DATE:20231014
DTEND;VALUE=DATE:20231015
DTSTAMP:20260424T060631
CREATED:20230312T154440Z
LAST-MODIFIED:20230312T154440Z
UID:810-1697241600-1697327999@1001pointsdevue.fr
SUMMARY:Atelier Objectifs
DESCRIPTION:
URL:https://1001pointsdevue.fr/atelier/atelier-objectifs-5/
CATEGORIES:Objectifs_Libération
ORGANIZER;CN="1001 Points de vue":MAILTO:contact@1001pointsdevue.fr
END:VEVENT
BEGIN:VEVENT
DTSTART;VALUE=DATE:20231014
DTEND;VALUE=DATE:20231015
DTSTAMP:20260424T060631
CREATED:20230312T154017Z
LAST-MODIFIED:20230312T154017Z
UID:797-1697241600-1697327999@1001pointsdevue.fr
SUMMARY:Mieux vivre son hypersensibilité
DESCRIPTION:Groupe 1\nSéance 3/5
URL:https://1001pointsdevue.fr/atelier/mieux-vivre-son-hypersensibilite-3/
CATEGORIES:Hypersensibilité
ORGANIZER;CN="1001 Points de vue":MAILTO:contact@1001pointsdevue.fr
END:VEVENT
BEGIN:VEVENT
DTSTART;TZID=Europe/Paris:20231011T153000
DTEND;TZID=Europe/Paris:20231011T173000
DTSTAMP:20260424T060631
CREATED:20230312T153633Z
LAST-MODIFIED:20230312T153633Z
UID:782-1697038200-1697045400@1001pointsdevue.fr
SUMMARY:Confiance en soi
DESCRIPTION:Groupe 2\nSéance 3/5
URL:https://1001pointsdevue.fr/atelier/confiance-en-soi-8/
CATEGORIES:Confiance
ORGANIZER;CN="1001 Points de vue":MAILTO:contact@1001pointsdevue.fr
END:VEVENT
BEGIN:VEVENT
DTSTART;TZID=Europe/Paris:20231007T100000
DTEND;TZID=Europe/Paris:20231007T120000
DTSTAMP:20260424T060631
CREATED:20230312T150243Z
LAST-MODIFIED:20230312T150243Z
UID:721-1696672800-1696680000@1001pointsdevue.fr
SUMMARY:Faire la paix avec son corps (amincissement)
DESCRIPTION:Groupe 4\nSéance 3/5
URL:https://1001pointsdevue.fr/atelier/faire-la-paix-avec-son-corps-amincissement-17/
CATEGORIES:Corps
ORGANIZER;CN="1001 Points de vue":MAILTO:contact@1001pointsdevue.fr
END:VEVENT
BEGIN:VEVENT
DTSTART;TZID=Europe/Paris:20231005T200000
DTEND;TZID=Europe/Paris:20231005T220000
DTSTAMP:20260424T060631
CREATED:20230312T145737Z
LAST-MODIFIED:20230312T145737Z
UID:710-1696536000-1696543200@1001pointsdevue.fr
SUMMARY:Faire la paix avec son corps (amincissement)
DESCRIPTION:Groupe 3\nSéance 3/5
URL:https://1001pointsdevue.fr/atelier/faire-la-paix-avec-son-corps-amincissement-12/
CATEGORIES:Corps
ORGANIZER;CN="1001 Points de vue":MAILTO:contact@1001pointsdevue.fr
END:VEVENT
BEGIN:VEVENT
DTSTART;TZID=Europe/Paris:20231004T153000
DTEND;TZID=Europe/Paris:20231004T173000
DTSTAMP:20260424T060631
CREATED:20230312T152308Z
LAST-MODIFIED:20230312T152920Z
UID:752-1696433400-1696440600@1001pointsdevue.fr
SUMMARY:Orientation jeunes
DESCRIPTION:Groupe 1\nSéance 3/5
URL:https://1001pointsdevue.fr/atelier/752/
CATEGORIES:Orientation
ORGANIZER;CN="1001 Points de vue":MAILTO:contact@1001pointsdevue.fr
END:VEVENT
END:VCALENDAR