BEGIN:VCALENDAR
VERSION:2.0
PRODID:-//1001 Point de vue - ECPv6.8.3//NONSGML v1.0//EN
CALSCALE:GREGORIAN
METHOD:PUBLISH
X-WR-CALNAME:1001 Point de vue
X-ORIGINAL-URL:https://1001pointsdevue.fr
X-WR-CALDESC:Évènements pour 1001 Point de vue
REFRESH-INTERVAL;VALUE=DURATION:PT1H
X-Robots-Tag:noindex
X-PUBLISHED-TTL:PT1H
BEGIN:VTIMEZONE
TZID:Europe/Paris
BEGIN:DAYLIGHT
TZOFFSETFROM:+0100
TZOFFSETTO:+0200
TZNAME:CEST
DTSTART:20230326T010000
END:DAYLIGHT
BEGIN:STANDARD
TZOFFSETFROM:+0200
TZOFFSETTO:+0100
TZNAME:CET
DTSTART:20231029T010000
END:STANDARD
END:VTIMEZONE
BEGIN:VEVENT
DTSTART;TZID=Europe/Paris:20230906T133000
DTEND;TZID=Europe/Paris:20230906T153000
DTSTAMP:20260426T023328
CREATED:20230312T150927Z
LAST-MODIFIED:20230312T150927Z
UID:729-1694007000-1694014200@1001pointsdevue.fr
SUMMARY:Efficience scolaire
DESCRIPTION:Groupe 1\nSéance 1/5
URL:https://1001pointsdevue.fr/atelier/efficience-scolaire/
CATEGORIES:Efficience
ORGANIZER;CN="1001 Points de vue":MAILTO:contact@1001pointsdevue.fr
END:VEVENT
BEGIN:VEVENT
DTSTART;TZID=Europe/Paris:20230906T153000
DTEND;TZID=Europe/Paris:20230906T173000
DTSTAMP:20260426T023328
CREATED:20230312T152205Z
LAST-MODIFIED:20230312T152911Z
UID:750-1694014200-1694021400@1001pointsdevue.fr
SUMMARY:Orientation jeunes
DESCRIPTION:Groupe 1\nSéance 1/5
URL:https://1001pointsdevue.fr/atelier/orientation-jeunes/
CATEGORIES:Orientation
ORGANIZER;CN="1001 Points de vue":MAILTO:contact@1001pointsdevue.fr
END:VEVENT
BEGIN:VEVENT
DTSTART;TZID=Europe/Paris:20230907T200000
DTEND;TZID=Europe/Paris:20230907T220000
DTSTAMP:20260426T023328
CREATED:20230312T145629Z
LAST-MODIFIED:20230312T145629Z
UID:709-1694116800-1694124000@1001pointsdevue.fr
SUMMARY:Faire la paix avec son corps (amincissement)
DESCRIPTION:Groupe 3\nSéance 1/5
URL:https://1001pointsdevue.fr/atelier/faire-la-paix-avec-son-corps-amincissement-10/
CATEGORIES:Corps
ORGANIZER;CN="1001 Points de vue":MAILTO:contact@1001pointsdevue.fr
END:VEVENT
BEGIN:VEVENT
DTSTART;TZID=Europe/Paris:20230909T100000
DTEND;TZID=Europe/Paris:20230909T120000
DTSTAMP:20260426T023328
CREATED:20230312T150124Z
LAST-MODIFIED:20230312T150124Z
UID:719-1694253600-1694260800@1001pointsdevue.fr
SUMMARY:Faire la paix avec son corps (amincissement)
DESCRIPTION:Groupe 4\nSéance 1/5
URL:https://1001pointsdevue.fr/atelier/faire-la-paix-avec-son-corps-amincissement-15/
CATEGORIES:Corps
ORGANIZER;CN="1001 Points de vue":MAILTO:contact@1001pointsdevue.fr
END:VEVENT
BEGIN:VEVENT
DTSTART;TZID=Europe/Paris:20230913T153000
DTEND;TZID=Europe/Paris:20230913T173000
DTSTAMP:20260426T023328
CREATED:20230312T153558Z
LAST-MODIFIED:20230312T153558Z
UID:780-1694619000-1694626200@1001pointsdevue.fr
SUMMARY:Confiance en soi
DESCRIPTION:Groupe 2\nSéance 1/5
URL:https://1001pointsdevue.fr/atelier/confiance-en-soi-6/
CATEGORIES:Confiance
ORGANIZER;CN="1001 Points de vue":MAILTO:contact@1001pointsdevue.fr
END:VEVENT
BEGIN:VEVENT
DTSTART;VALUE=DATE:20230915
DTEND;VALUE=DATE:20230916
DTSTAMP:20260426T023328
CREATED:20230312T154427Z
LAST-MODIFIED:20230312T154427Z
UID:809-1694736000-1694822399@1001pointsdevue.fr
SUMMARY:Atelier Objectifs
DESCRIPTION:
URL:https://1001pointsdevue.fr/atelier/atelier-objectifs-4/
CATEGORIES:Objectifs_Libération
ORGANIZER;CN="1001 Points de vue":MAILTO:contact@1001pointsdevue.fr
END:VEVENT
BEGIN:VEVENT
DTSTART;VALUE=DATE:20230916
DTEND;VALUE=DATE:20230917
DTSTAMP:20260426T023328
CREATED:20230312T153917Z
LAST-MODIFIED:20230312T153917Z
UID:795-1694822400-1694908799@1001pointsdevue.fr
SUMMARY:Mieux vivre son hypersensibilité
DESCRIPTION:Groupe 1\nSéance 1/5
URL:https://1001pointsdevue.fr/atelier/mieux-vivre-son-hypersensibilite/
CATEGORIES:Hypersensibilité
ORGANIZER;CN="1001 Points de vue":MAILTO:contact@1001pointsdevue.fr
END:VEVENT
BEGIN:VEVENT
DTSTART;TZID=Europe/Paris:20230920T133000
DTEND;TZID=Europe/Paris:20230920T153000
DTSTAMP:20260426T023328
CREATED:20230312T151121Z
LAST-MODIFIED:20230312T151121Z
UID:730-1695216600-1695223800@1001pointsdevue.fr
SUMMARY:Efficience scolaire
DESCRIPTION:Groupe 1\nSéance 2/5
URL:https://1001pointsdevue.fr/atelier/efficience-scolaire-2/
CATEGORIES:Efficience
ORGANIZER;CN="1001 Points de vue":MAILTO:contact@1001pointsdevue.fr
END:VEVENT
BEGIN:VEVENT
DTSTART;TZID=Europe/Paris:20230920T153000
DTEND;TZID=Europe/Paris:20230920T173000
DTSTAMP:20260426T023328
CREATED:20230312T152240Z
LAST-MODIFIED:20230312T152916Z
UID:751-1695223800-1695231000@1001pointsdevue.fr
SUMMARY:Orientation jeunes
DESCRIPTION:Groupe 1\nSéance 2/5
URL:https://1001pointsdevue.fr/atelier/751/
CATEGORIES:Orientation
ORGANIZER;CN="1001 Points de vue":MAILTO:contact@1001pointsdevue.fr
END:VEVENT
BEGIN:VEVENT
DTSTART;TZID=Europe/Paris:20230921T200000
DTEND;TZID=Europe/Paris:20230921T220000
DTSTAMP:20260426T023328
CREATED:20230312T145709Z
LAST-MODIFIED:20230312T145709Z
UID:711-1695326400-1695333600@1001pointsdevue.fr
SUMMARY:Faire la paix avec son corps (amincissement)
DESCRIPTION:Groupe 3\nSéance 2/5
URL:https://1001pointsdevue.fr/atelier/faire-la-paix-avec-son-corps-amincissement-11/
CATEGORIES:Corps
ORGANIZER;CN="1001 Points de vue":MAILTO:contact@1001pointsdevue.fr
END:VEVENT
BEGIN:VEVENT
DTSTART;TZID=Europe/Paris:20230923T100000
DTEND;TZID=Europe/Paris:20230923T120000
DTSTAMP:20260426T023328
CREATED:20230312T150207Z
LAST-MODIFIED:20230312T150207Z
UID:720-1695463200-1695470400@1001pointsdevue.fr
SUMMARY:Faire la paix avec son corps (amincissement)
DESCRIPTION:Groupe 4\nSéance 2/5
URL:https://1001pointsdevue.fr/atelier/faire-la-paix-avec-son-corps-amincissement-16/
CATEGORIES:Corps
ORGANIZER;CN="1001 Points de vue":MAILTO:contact@1001pointsdevue.fr
END:VEVENT
BEGIN:VEVENT
DTSTART;TZID=Europe/Paris:20230927T153000
DTEND;TZID=Europe/Paris:20230927T173000
DTSTAMP:20260426T023328
CREATED:20230312T153615Z
LAST-MODIFIED:20230312T153615Z
UID:781-1695828600-1695835800@1001pointsdevue.fr
SUMMARY:Confiance en soi
DESCRIPTION:Groupe 2\nSéance 2/5
URL:https://1001pointsdevue.fr/atelier/confiance-en-soi-7/
CATEGORIES:Confiance
ORGANIZER;CN="1001 Points de vue":MAILTO:contact@1001pointsdevue.fr
END:VEVENT
BEGIN:VEVENT
DTSTART;VALUE=DATE:20230929
DTEND;VALUE=DATE:20230930
DTSTAMP:20260426T023328
CREATED:20230312T154708Z
LAST-MODIFIED:20230312T154708Z
UID:823-1695945600-1696031999@1001pointsdevue.fr
SUMMARY:Atelier de libération
DESCRIPTION:
URL:https://1001pointsdevue.fr/atelier/atelier-de-liberation-4/
CATEGORIES:Objectifs_Libération
ORGANIZER;CN="1001 Points de vue":MAILTO:contact@1001pointsdevue.fr
END:VEVENT
BEGIN:VEVENT
DTSTART;VALUE=DATE:20230930
DTEND;VALUE=DATE:20231001
DTSTAMP:20260426T023328
CREATED:20230312T153936Z
LAST-MODIFIED:20230312T153936Z
UID:796-1696032000-1696118399@1001pointsdevue.fr
SUMMARY:Mieux vivre son hypersensibilité
DESCRIPTION:Groupe 1\nSéance 2/5
URL:https://1001pointsdevue.fr/atelier/mieux-vivre-son-hypersensibilite-2/
CATEGORIES:Hypersensibilité
ORGANIZER;CN="1001 Points de vue":MAILTO:contact@1001pointsdevue.fr
END:VEVENT
END:VCALENDAR